Workbook

Sheet Disclosures
A2: Important Information About Non-GAAP References
A3: This Financial Data spreadsheet includes supplemental non-GAAP financial measures in addition to GAAP financial results. Non-GAAP revenue, non-GAAP operating expenses, non-GAAP operating margin, non-GAAP gross profit, non-GAAP gross margin, non-GAAP net income and non-GAAP EPS exclude the effect of purchase accounting on the fair value of acquired deferred revenue, stock-based compensation expense, amortization of acquired intangible assets, restructuring charges, acquisition-related expenses, costs associated with terminating a U.S. pension plan, a litigation accrual associated with our previously disclosed China investigation, certain identified non-operating gains and losses, the related tax effects of the preceding items, credit facility refinancing expenses and certain discrete tax items. We use these non-GAAP measures, and we believe that they assist our investors, to make period-to-period comparisons of our operational performance because they provide a view of our operating results without items that are not, in our view, indicative of our core operating results. We believe that these non-GAAP measures help illustrate underlying trends in our business, and we use the measures to establish budgets and operational goals, communicated internally and externally, for managing our business and evaluating our performance. We believe that providing non-GAAP measures affords investors a view of our operating results that may be more easily compared to the results of peer companies. In addition, compensation of our executives is based in part on the performance of our business based on these non-GAAP measures. However, non-GAAP information should not be construed as an alternative to GAAP information as the items excluded from the non-GAAP measures often have a material impact on PTC’s financial results. Management uses, and investors should consider, non-GAAP measures in conjunction with our GAAP results.
A5: PTC also provides results on a constant currency basis to provide a year-over-year view of our results excluding the effect of currency translation. Our constant currency disclosures are calculated by multiplying the actual results for the current period by the exchange rates in effect for the comparable prior period.
A7: PTC also provides information on “free cash flow” and “free cash flow return” to enable investors to assess our ability to generate cash without incurring additional external financings and to evaluate our performance against our announced long-term goal of returning approximately 40% of our free cash flow to shareholders via stock repurchases. Free-cash flow is net cash provided by (used in) operating activities less capital expenditures and excludes the impact of restructuring charges we may incur and other significant unpredicted discrete items, and free-cash flow return is the value of shares repurchased divided by free cash flow.

Sheet Balance Sheet
A1: Trended PTC Consolidated Balance Sheets
B3: FY'11 | D3: FY'12 | F3: FY'13 | H3: FY'14 | P3: FY'15 | X3: FY'16
B6: 40816 | D6: 41182 | F6: 41547 | H6: 41636 | J6: 41727 | L6: 41818 | N6: 41912 | P6: 42007 | R6: 42098 | T6: 42189 | V6: 42277 | X6: 42371
A7: (in millions)
A8: ASSETS
A9: Current assets:
A10: Cash and cash equivalents | B10: 167.878 | D10: 489.543 | F10: 241.913 | H10: 371.377 | J10: 270.47 | L10: 304.173 | N10: 293.654 | P10: 261.052 | R10: 267.815 | T10: 275.06 | V10: 273.417 | X10: 296.797
A11: Accounts receivable, net | B11: 230.22 | D11: 217.37 | F11: 229.106 | H11: 212.57 | J11: 221.288 | L11: 228.623 | N11: 235.688 | P11: 201.391 | R11: 201.379 | T11: 183.144 | V11: 197.275 | X11: 161.402
A12: Prepaid expenses and other current assets | B12: 140.015 | D12: 149.36 | F12: 169.552 | H12: 148.47 | J12: 171.217 | L12: 139.464 | N12: 171.526 | P12: 203.549 | R12: 203.726 | T12: 148.732 | V12: 197.184 | X12: 201.389
A13: Deferred tax assets | B13: 54.151 | D13: 22.879 | F13: 39.645 | H13: 36.683 | J13: 40.469 | L13: 38.969 | N13: 31.299 | P13: 30.073 | R13: 33.332 | T13: 28.269 | V13: 36.803 | X13: 0
A14: Total current assets | B14: =SUM(B10:B13) -> 592.264 | D14: =SUM(D10:D13) -> 879.152 | F14: =SUM(F10:F13) -> 680.216 | H14: =SUM(H10:H13) -> 769.1 | J14: =SUM(J10:J13) -> 703.444 | L14: =SUM(L10:L13) -> 711.229 | N14: =SUM(N10:N13) -> 732.167 | P14: =SUM(P10:P13) -> 696.065 | R14: =SUM(R10:R13) -> 706.252 | T14: =SUM(T10:T13) -> 635.205 | V14: =SUM(V10:V13) -> 704.679 | X14: =SUM(X10:X13) -> 659.588
A15: Property and equipment, net | B15: 62.569 | D15: 63.466 | F15: 64.652 | H15: 63.152 | J15: 60.632 | L15: 63.582 | N15: 67.783 | P15: 65.766 | R15: 65.191 | T15: 65.02 | V15: 65.162 | X15: 60.878
A16: Goodwill | B16: 613.394 | D16: 610.347 | F16: 769.095 | H16: 769.158 | J16: 869.324 | L16: 870.766 | N16: 1012.527 | P16: 1000.992 | R16: 984.953 | T16: 1071.796 | V16: 1069.041 | X16: 1086.23
A17: Acquired intangible assets, net | B17: 222.017 | D17: 185.885 | F17: 273.121 | H17: 260.264 | J17: 279.901 | L17: 268.018 | N17: 336.873 | P17: 319.021 | R17: 301.443 | T17: 305.527 | V17: 291.301 | X17: 317.67
A18: Deferred tax assets | B18: 98.064 | D18: 20.66 | F18: 7.696 | H18: 7.911 | J18: 8.159 | L18: 7.086 | N18: 8.958 | P18: 14.327 | R18: 20.639 | T18: 27.938 | V18: 38.936 | X18: 49.631
A19: Other assets | B19: 41.374 | D19: 32.124 | F19: 34.126 | H19: 35.157 | J19: 37.666 | L19: 37.525 | N19: 41.646 | P19: 41.052 | R19: 30.152 | T19: 41.115 | V19: 40.794 | X19: 41.896
A20: Total assets | B20: =SUM(B14:B19) -> 1629.682 | D20: =SUM(D14:D19) -> 1791.634 | F20: =SUM(F14:F19) -> 1828.906 | H20: =SUM(H14:H19) -> 1904.742 | J20: =SUM(J14:J19) -> 1959.126 | L20: =SUM(L14:L19) -> 1958.206 | N20: =SUM(N14:N19) -> 2199.954 | P20: =SUM(P14:P19) -> 2137.223 | R20: =SUM(R14:R19) -> 2108.63 | T20: =SUM(T14:T19) -> 2146.601 | V20: =SUM(V14:V19) -> 2209.913 | X20: =SUM(X14:X19) -> 2215.893
A22: LIABILITIES AND SHAREHOLDERS’ EQUITY
A23: Current liabilities:
A24: Accounts payable, accrued expenses and other current liabilities | B24: 77.141 | D24: 65.517 | F24: 66.006 | H24: 59.941 | J24: 61.823 | L24: 64.318 | N24: 77.338 | P24: 69.232 | R24: 72.865 | T24: 103.293 | V24: =96.434+14.54 -> 110.974 | X24: 106.788
A25: Accrued compensation and benefits | B25: 91.913 | D25: 92.212 | F25: 112.733 | H25: 75.949 | J25: 79.606 | L25: 89.498 | N25: 144.875 | P25: 93.689 | R25: 132.008 | T25: 112.35 | V25: 82.414 | X25: 94.726
A26: Accrued income taxes | B26: 11.895 | D26: 0.804 | F26: 7.074 | H26: 11.433 | J26: 12.094 | L26: 14.232 | N26: 9.329 | P26: 8.34 | R26: 14.316 | T26: 6.839 | V26: 4.01 | X26: 4.105
A27: Deferred tax liabilities | B27: 4.44 | D27: 0.402 | F27: 0.853 | H27: 0.173 | J27: 1.61 | L27: 1.813 | N27: 0.854 | P27: 0.508 | R27: 0.183 | T27: 0.102 | V27: 1.622 | X27: 0
A28: Current portion of long term debt | B28: 0 | D28: 7.5 | F28: 15 | H28: 15 | J28: 12.5 | L28: 15.625 | N28: 25 | P28: 31.25 | R28: 37.5 | T28: 43.75 | V28: 50 | X28: 0
A29: Deferred revenue | B29: 279.935 | D29: 315.309 | F29: 326.947 | H29: 293.441 | J29: 358.182 | L29: 362.865 | N29: 369.271 | P29: 385.963 | R29: 403.864 | T29: 371.859 | V29: 368.24 | X29: 373.768
A30: Total current liabilities | B30: =SUM(B24:B29) -> 465.324 | D30: =SUM(D24:D29) -> 481.744 | F30: =SUM(F24:F29) -> 528.613 | H30: =SUM(H24:H29) -> 455.937 | J30: =SUM(J24:J29) -> 525.815 | L30: =SUM(L24:L29) -> 548.351 | N30: =SUM(N24:N29) -> 626.667 | P30: =SUM(P24:P29) -> 588.982 | R30: =SUM(R24:R29) -> 660.736 | T30: =SUM(T24:T29) -> 638.193 | V30: =SUM(V24:V29) -> 617.26 | X30: =SUM(X24:X29) -> 579.387
A31: Long term debt, net of current portion | B31: 200 | D31: 362.5 | F31: 243.125 | H31: 353.125 | J31: 305.625 | L31: 299.375 | N31: 586.875 | P31: 574.375 | R31: 493.125 | T31: 580.625 | V31: 618.125 | X31: 718.125
A32: Deferred tax liabilities | B32: 25.919 | D32: 31.854 | F32: 42.088 | H32: 40.387 | J32: 43.974 | L32: 41.886 | N32: 36.601 | P32: 36.242 | R32: 30.88 | T32: 30.61 | V32: 42.361 | X32: 13.704
A33: Deferred revenue | B33: 14.389 | D33: 12.22 | F33: 9.966 | H33: 8.047 | J33: 7.4 | L33: 9.025 | N33: 13.273 | P33: 11.657 | R33: 16.963 | T33: 17.28 | V33: 18.61 | X33: 15.498
A34: Other liabilities | B34: 101.36 | D34: 106.057 | F34: 78.634 | H34: 78.598 | J34: 93.891 | L34: 87.1 | N34: 82.649 | P34: 70.514 | R34: 52.706 | T34: 49.57 | V34: 53.386 | X34: 53.242
A35: Total liabilities | B35: =SUM(B30:B34) -> 806.992 | D35: =SUM(D30:D34) -> 994.375 | F35: =SUM(F30:F34) -> 902.426 | H35: =SUM(H30:H34) -> 936.094 | J35: =SUM(J30:J34) -> 976.705 | L35: =SUM(L30:L34) -> 985.737 | N35: =SUM(N30:N34) -> 1346.065 | P35: =SUM(P30:P34) -> 1281.77 | R35: =SUM(R30:R34) -> 1254.41 | T35: =SUM(T30:T34) -> 1316.278 | V35: =SUM(V30:V34) -> 1349.742 | X35: =SUM(X30:X34) -> 1379.956
A36: Shareholders’ equity:
A37: Common stock | B37: 1.169 | D37: 1.196 | F37: 1.185 | H37: 1.195 | J37: 1.186 | L37: 1.173 | N37: 1.15 | P37: 1.149 | R37: 1.15 | T37: 1.142 | V37: 1.137 | X37: 1.145
A38: Additional paid-in capital | B38: 1805.021 | D38: 1822.698 | F38: 1786.82 | H38: 1787.364 | J38: 1759.355 | L38: 1708.407 | N38: 1597.277 | P38: 1587.017 | R38: 1599.646 | T38: 1556.308 | V38: 1553.39 | X38: 1561.795
A39: Accumulated deficit | B39: -918.736 | D39: -954.134 | F39: -810.365 | H39: -770.708 | J39: -726.952 | L39: -688.926 | N39: -650.171 | P39: -619.887 | R39: -614.495 | T39: -597.06 | V39: =-588.073-14.54 -> -602.613 | X39: -626.506
A40: Accumulated other comprehensive income (loss) | B40: -64.764 | D40: -72.501 | F40: -51.16 | H40: -49.203 | J40: -51.168 | L40: -48.185 | N40: -94.367 | P40: -112.826 | R40: -132.081 | T40: -130.067 | V40: -91.743 | X40: -100.497
A41: Total shareholders’ equity | B41: =SUM(B37:B40) -> 822.69 | D41: =SUM(D37:D40) -> 797.259 | F41: =SUM(F37:F40) -> 926.48 | H41: =SUM(H37:H40) -> 968.648 | J41: =SUM(J37:J40) -> 982.421 | L41: =SUM(L37:L40) -> 972.469 | N41: =SUM(N37:N40) -> 853.889 | P41: =SUM(P37:P40) -> 855.453 | R41: =SUM(R37:R40) -> 854.22 | T41: =SUM(T37:T40) -> 830.323 | V41: =SUM(V37:V40) -> 860.171 | X41: =SUM(X37:X40) -> 835.937
A42: Total liabilities and shareholders’ equity | B42: =B35+B41 -> 1629.682 | D42: =D35+D41 -> 1791.634 | F42: =F35+F41 -> 1828.906 | H42: =H35+H41 -> 1904.742 | J42: =J35+J41 -> 1959.126 | L42: =L35+L41 -> 1958.206 | N42: =N35+N41 -> 2199.954 | P42: =P35+P41 -> 2137.223 | R42: =R35+R41 -> 2108.63 | T42: =T35+T41 -> 2146.601 | V42: =V35+V41 -> 2209.913 | X42: =X35+X41 -> 2215.893
A45: Days Sales Outstanding | B45: 61 | D45: 61 | F45: 62 | H45: =H11/('GAAP Income Statement'!H15/(H6-F6)) -> 58.224913 | J45: =J11/('GAAP Income Statement'!J15/(J6-H6)) -> 61.263182 | L45: =L11/('GAAP Income Statement'!L15/(L6-J6)) -> 61.802114 | N45: =N11/('GAAP Income Statement'!N15/(N6-L6)) -> 60.415022 | P45: =P11/('GAAP Income Statement'!R15/(P6-N6)) -> 58.788187 | R45: =R11/('GAAP Income Statement'!T15/(R6-P6)) -> 58.33932 | T45: =T11/('GAAP Income Statement'!V15/(T6-R6)) -> 54.983138 | V45: =V11/('GAAP Income Statement'!X15/(V6-T6)) -> 55.540554 | X45: =X11/('GAAP Income Statement'!AB15/(X6-V6)) -> 52.133683

Sheet GAAP Income Statement
A1: Trended PTC Consolidated Statements of Operations - GAAP
B3: FY'11 | D3: FY'12 | F3: FY'13 | H3: FY'14 | R3: FY'15 | AB3: FY'16
B5: Yr Ended | D5: Yr Ended | F5: Yr Ended | H5: Quarter Ended | P5: Yr Ended | R5: Quarter Ended | Z5: Yr Ended | AB5: QE
B6: 40816 | D6: 41182 | F6: 41547 | H6: 41636 | J6: 41727 | L6: 41818 | N6: 41912 | P6: 41912 | R6: 42007 | T6: 42098 | V6: 42189 | X6: 41912 | Z6: 41912 | AB6: 42371
A7: (in millions, except per share amounts)
A8: Revenue:
A9: Subscription | B9: 0.115 | D9: 0 | F9: 10.074 | H9: 3.674 | J9: 3.592 | L9: 7.305 | N9: 12.566 | P9: =SUM(H9,J9,L9,N9) -> 27.137 | R9: 14.223 | T9: 15.765 | V9: 17.155 | X9: 18.096 | Z9: =SUM(R9,T9,V9,X9)+0.001 -> 65.24 | AB9: 22.176
A10: Support | B10: 557.678 | D10: 611.943 | F10: 654.678 | H10: 170.142 | J10: 166.249 | L10: 172.021 | N10: 180.09 | P10: =SUM(H10,J10,L10,N10) -> 688.502 | R10: 181.629 | T10: 168.727 | V10: 165.687 | X10: 165.482 | Z10: =SUM(R10,T10,V10,X10)-0.001 -> 681.524 | AB10: 171.756
A11: Total recurring software | B11: =SUM(B9:B10) -> 557.793 | D11: =SUM(D9:D10) -> 611.943 | F11: =SUM(F9:F10) -> 664.752 | H11: =SUM(H9:H10) -> 173.816 | J11: =SUM(J9:J10) -> 169.841 | L11: =SUM(L9:L10) -> 179.326 | N11: =SUM(N9:N10) -> 192.656 | P11: =SUM(P9:P10) -> 715.639 | R11: =SUM(R9:R10) -> 195.852 | T11: =SUM(T9:T10) -> 184.492 | V11: =SUM(V9:V10) -> 182.842 | X11: =SUM(X9:X10) -> 183.578 | Z11: =SUM(R11,T11,V11,X11) -> 746.764 | AB11: =SUM(AB9:AB10) -> 193.932
A12: Perpetual license | B12: 342.006 | D12: 348.394 | F12: 344.209 | H12: 79.192 | J12: 84.953 | L12: 90.398 | N12: 108.059 | P12: =SUM(H12,J12,L12,N12) -> 362.602 | R12: 64.748 | T12: 70.187 | V12: 66.771 | X12: 81.053 | Z12: =SUM(R12,T12,V12,X12) -> 282.759 | AB12: 47.763
A13: Total software | B13: =SUM(B11:B12) -> 899.799 | D13: =SUM(D11:D12) -> 960.337 | F13: =SUM(F11:F12) -> 1008.961 | H13: =SUM(H11:H12) -> 253.008 | J13: =SUM(J11:J12) -> 254.794 | L13: =SUM(L11:L12) -> 269.724 | N13: =SUM(N11:N12) -> 300.715 | P13: =SUM(P11:P12) -> 1078.241 | R13: =SUM(R11:R12) -> 260.6 | T13: =SUM(T11:T12) -> 254.679 | V13: =SUM(V11:V12) -> 249.613 | X13: =SUM(X11:X12) -> 264.631 | Z13: =SUM(Z11:Z12) -> 1029.523 | AB13: =SUM(AB11:AB12) -> 241.695
A14: Professional services | B14: 267.15 | D14: 295.342 | F14: 284.58 | H14: 71.917 | J14: 73.906 | L14: 66.91 | N14: 65.993 | P14: =SUM(H14,J14,L14,N14) -> 278.726 | R14: 64.842 | T14: 59.44 | V14: 53.5 | X14: 47.937 | Z14: =SUM(R14,T14,V14,X14) -> 225.719 | AB14: 49.322
A15: Total revenue | B15: =SUM(B13:B14) -> 1166.949 | D15: =SUM(D13:D14) -> 1255.679 | F15: =SUM(F13:F14) -> 1293.541 | H15: =SUM(H13:H14) -> 324.925 | J15: =SUM(J13:J14) -> 328.7 | L15: =SUM(L13:L14) -> 336.634 | N15: =SUM(N13:N14) -> 366.708 | P15: =SUM(P13:P14) -> 1356.967 | R15: =SUM(R13:R14) -> 325.442 | T15: =SUM(T13:T14) -> 314.119 | V15: =SUM(V13:V14) -> 303.113 | X15: =SUM(X13:X14) -> 312.568 | Z15: =SUM(Z13:Z14) -> 1255.242 | AB15: =SUM(AB13:AB14) -> 291.017
A16: Cost of revenue:
A17: Cost of software | B17: 96.118 | D17: 106.645 | F17: 120.118 | H17: 30.235 | J17: 32.453 | L17: 32.364 | N17: 34.655 | P17: =SUM(H17,J17,L17,N17)+0.001 -> 129.708 | R17: 34.725 | T17: 34.518 | V17: 33.282 | X17: 33.467 | Z17: =SUM(R17,T17,V17,X17) -> 135.992 | AB17: 36.814
A18: Cost of professional services | B18: 260.65 | D18: 265.483 | F18: 252.921 | H18: 62.721 | J18: 61.344 | L18: 58.712 | N18: 61.199 | P18: =SUM(H18,J18,L18,N18)-0.001 -> 243.975 | R18: 58.217 | T18: 51.536 | V18: 46.094 | X18: 42.895 | Z18: =SUM(R18,T18,V18,X18) -> 198.742 | AB18: 43.333
A19: Total cost of revenue | B19: =SUM(B17:B18) -> 356.768 | D19: =SUM(D17:D18) -> 372.128 | F19: =SUM(F17:F18) -> 373.039 | H19: =SUM(H17:H18) -> 92.956 | J19: =SUM(J17:J18) -> 93.797 | L19: =SUM(L17:L18) -> 91.076 | N19: =SUM(N17:N18) -> 95.854 | P19: =SUM(H19,J19,L19,N19) -> 373.683 | R19: =SUM(R17:R18) -> 92.942 | T19: =SUM(T17:T18) -> 86.054 | V19: =SUM(V17:V18) -> 79.376 | X19: =SUM(X17:X18) -> 76.362 | Z19: =SUM(R19,T19,V19,X19) -> 334.734 | AB19: =SUM(AB17:AB18) -> 80.147
A20: Gross profit | B20: 810.181 | D20: 883.551 | F20: 920.502 | G20: =G15-G19 -> 0 | H20: =H15-H19 -> 231.969 | I20: =I15-I19 -> 0 | J20: =J15-J19 -> 234.903 | K20: =K15-K19 -> 0 | L20: =L15-L19 -> 245.558 | M20: =M15-M19 -> 0 | N20: =N15-N19 -> 270.854 | ... V20: =V15-V19 -> 223.737 | X20: =X15-X19 -> 236.206 | Y20: =Y17-Y19 -> 0 | Z20: =SUM(R20,T20,V20,X20) -> 920.508 | AB20: =AB15-AB19 -> 210.87
A21: Operating expenses:
A22: Sales and marketing | B22: =353.051+2.642 -> 355.693 | D22: =377.796+8.076 -> 385.872 | F22: =360.64+12.735 -> 373.375 | H22: =84.238+3.097 -> 87.335 | J22: =85.934+2.788 -> 88.722 | L22: =91.44+2.15 -> 93.59 | N22: =95.835+1.972 -> 97.807 | P22: =SUM(H22,J22,L22,N22) -> 367.454 | R22: =87.607+1.877 -> 89.484 | T22: =82.024+1.841 -> 83.865 | V22: =86.454+1.899 -> 88.353 | X22: =82.692+2.4 -> 85.092 | Z22: =SUM(R22,T22,V22,X22) -> 346.794 | AB22: 82.429
A23: Research and development | B23: 211.406 | D23: 214.96 | F23: 221.918 | H23: 53.073 | J23: 55.631 | L23: 57.405 | N23: 60.387 | P23: =SUM(H23,J23,L23,N23) -> 226.496 | R23: 61.097 | T23: 60.158 | V23: 54.078 | X23: 52.18 | Z23: =SUM(R23,T23,V23,X23) -> 227.513 | AB23: 57.669
A24: General and administrative | B24: =110.291-2.642 -> 107.649 | D24: =117.468-8.076 -> 109.392 | F24: =131.937-12.735 -> 119.202 | H24: =30.931-3.097 -> 27.834 | J24: =34.14-2.788 -> 31.352 | L24: =33.817-2.15 -> 31.667 | N24: =43.344-1.972 -> 41.372 | P24: =SUM(H24,J24,L24,N24) -> 132.225 | R24: =37.007-1.877 -> 35.13 | T24: =34.235-1.841 -> 32.394 | V24: =48.1-1.899 -> 46.201 | X24: =113.722-2.4 -> 111.322 | Z24: =SUM(R24,T24,V24,X24) -> 225.047 | AB24: 38.567
A25: Amortization of acquired intangible assets | B25: 18.319 | D25: 20.303 | F25: 26.486 | H25: 7.789 | J25: 7.985 | L25: 7.998 | N25: 8.355 | P25: =SUM(H25,J25,L25,N25) -> 32.127 | R25: 9.413 | T25: 9.173 | V25: 9.105 | X25: 8.438 | Z25: =SUM(R25,T25,V25,X25) -> 36.129 | AB25: 8.35
A26: Restructuring and other charges (credits) | B26: 0 | D26: 24.928 | F26: 52.197 | H26: 1.067 | J26: 0 | L26: 0.514 | N26: 26.825 | P26: =SUM(H26,J26,L26,N26) -> 28.406 | R26: -0.255 | T26: 38.487 | V26: 4.393 | X26: 0.784 | Z26: =SUM(R26,T26,V26,X26) -> 43.409 | AB26: 37.147
A27: Total operating expenses | B27: =SUM(B22:B26) -> 693.067 | D27: =SUM(D22:D26) -> 755.455 | F27: =SUM(F22:F26) -> 793.178 | G27: =SUM(G22:G26) -> 0 | H27: =SUM(H22:H26) -> 177.098 | I27: =SUM(I22:I26) -> 0 | J27: =SUM(J22:J26) -> 183.69 | K27: =SUM(K22:K26) -> 0 | L27: =SUM(L22:L26) -> 191.174 | M27: =SUM(M22:M26) -> 0 | ... V27: =SUM(V22:V26) -> 202.13 | X27: =SUM(X22:X26) -> 257.816 | Y27: =SUM(Y22:Y26) -> 0 | Z27: =SUM(Z22:Z26) -> 878.892 | AB27: =SUM(AB22:AB26) -> 224.162
A28: Operating income (loss) | B28: 117.114 | D28: 128.096 | F28: 127.324 | G28: =G20-G27 -> 0 | H28: =H20-H27 -> 54.871 | I28: =I20-I27 -> 0 | J28: =J20-J27 -> 51.213 | K28: =K20-K27 -> 0 | L28: =L20-L27 -> 54.384 | M28: =M20-M27 -> 0 | N28: =N20-N27 -> 36.108 | ... V28: =V20-V27 -> 21.607 | X28: =X20-X27 -> -21.61 | Y28: =Y20-Y27 -> 0 | Z28: =Z20-Z27 -> 41.616 | AB28: =AB20-AB27 -> -13.292
A29: Interest and other income (expense), net | B29: -12.566 | D29: -7.36 | F29: -1.09 | H29: -1.753 | J29: -2.692 | L29: -2.278 | N29: -3.74 | P29: =SUM(H29,J29,L29,N29)-0.001 -> -10.464 | R29: -3.224 | T29: -3.601 | V29: -3.668 | X29: -4.598 | Z29: =SUM(R29,T29,V29,X29) -> -15.091 | AB29: -6.253
A30: Income (loss) before income taxes | B30: =SUM(B28:B29) -> 104.548 | D30: =SUM(D28:D29) -> 120.736 | F30: =SUM(F28:F29) -> 126.234 | H30: =SUM(H28:H29) -> 53.118 | J30: =SUM(J28:J29) -> 48.521 | L30: =SUM(L28:L29) -> 52.106 | N30: =SUM(N28:N29) -> 32.368 | P30: =SUM(P28:P29) -> 186.112 | R30: =SUM(R28:R29) -> 34.407 | T30: =SUM(T28:T29) -> 0.387 | V30: =SUM(V28:V29) -> 17.939 | X30: =SUM(X28:X29) -> -26.208 | Z30: =SUM(Z28:Z29) -> 26.525 | AB30: =SUM(AB28:AB29) -> -19.545
A31: Provision (benefit) for income taxes | B31: 19.124 | D31: 156.134 | F31: -17.535 | H31: 13.461 | J31: 4.765 | L31: 14.08 | N31: -6.387 | P31: =SUM(H31,J31,L31,N31)-0.001 -> 25.918 | R31: 4.123 | T31: -5.005 | V31: 0.504 | X31: -20.655 | Z31: =SUM(R31,T31,V31,X31)+0.001 -> -21.032 | AB31: 4.347
A32: Net income (loss) | B32: =+B30-B31 -> 85.424 | D32: =+D30-D31 -> -35.398 | F32: =+F30-F31 -> 143.769 | H32: =+H30-H31 -> 39.657 | J32: =+J30-J31 -> 43.756 | L32: =+L30-L31 -> 38.026 | N32: =+N30-N31 -> 38.755 | P32: =+P30-P31 -> 160.194 | R32: =+R30-R31 -> 30.284 | T32: =+T30-T31 -> 5.392 | V32: =+V30-V31 -> 17.435 | X32: =+X30-X31 -> -5.553 | Z32: =+Z30-Z31 -> 47.557 | AB32: =+AB30-AB31 -> -23.892
A34: Basic net income (loss) per share | B34: =ROUND(B32/B36,2) -> 0.73 | D34: =ROUND(D32/D36,2) -> -0.3 | F34: =ROUND(F32/F36,2) -> 1.2 | H34: =ROUND(H32/H36,2) -> 0.33 | J34: =ROUND(J32/J36,2) -> 0.37 | L34: =ROUND(L32/L36,2) -> 0.32 | N34: =ROUND(N32/N36,2) -> 0.33 | P34: =ROUND(P32/P36,2) -> 1.36 | R34: =ROUND(R32/R36,2) -> 0.26 | T34: =ROUND(T32/T36,2) -> 0.05 | V34: =ROUND(V32/V36,2) -> 0.15 | X34: =ROUND(X32/X36,2) -> -0.05 | Z34: =ROUND(Z32/Z36,2) -> 0.41 | AB34: =ROUND(AB32/AB36,2) -> -0.21
A35: Diluted net income (loss) per share | B35: =ROUND(B32/B37,2) -> 0.71 | D35: =ROUND(D32/D37,2) -> -0.3 | F35: =ROUND(F32/F37,2) -> 1.19 | H35: =ROUND(H32/H37,2) -> 0.33 | J35: =ROUND(J32/J37,2) -> 0.36 | L35: =ROUND(L32/L37,2) -> 0.32 | N35: =ROUND(N32/N37,2) -> 0.33 | P35: =ROUND(P32/P37,2) -> 1.34 | R35: =ROUND(R32/R37,2) -> 0.26 | T35: =ROUND(T32/T37,2) -> 0.05 | V35: =ROUND(V32/V37,2) -> 0.15 | X35: =ROUND(X32/X37,2) -> -0.05 | Z35: =ROUND(Z32/Z37,2) -> 0.41 | AB35: =ROUND(AB32/AB37,2) -> -0.21
A36: Weighted average shares outstanding -- Basic | B36: 117.579 | D36: 118.705 | F36: 119.473 | H36: 118.933 | J36: 118.978 | L36: 118.328 | N36: 116.173 | P36: 118.094 | R36: 115.341 | T36: 114.944 | V36: 114.764 | X36: 113.99 | Z36: 114.775 | AB36: 114.151
A37: Weighted average shares outstanding -- Diluted | B37: 120.974 | D37: 118.705 | F37: 121.24 | H37: 121.1 | J37: 120.698 | L37: 119.901 | N37: 118.275 | P37: 119.984 | R37: 117.027 | T37: 115.922 | V37: 116.025 | X37: 115.025 | Z37: 116.012 | AB37: 114.151
A41: Gross margin | B41: =B20/B15 -> 0.69427284 | D41: =D20/D15 -> 0.703644 | F41: =F20/F15 -> 0.71161409 | H41: =H20/H15 -> 0.71391552 | J41: =J20/J15 -> 0.71464253 | L41: =L20/L15 -> 0.72945098 | N41: =N20/N15 -> 0.73860947 | P41: =P20/P15 -> 0.72461895 | R41: =R20/R15 -> 0.71441301 | T41: =T20/T15 -> 0.7260465 | V41: =V20/V15 -> 0.73813066 | X41: =X20/X15 -> 0.75569476 | Z41: =Z20/Z15 -> 0.7333311 | AB41: =AB20/AB15 -> 0.72459684
A42: Gross margin on total software | B42: =(B13-B17)/B13 -> 0.89317837 | D42: =(D13-D17)/D13 -> 0.88895044 | F42: =(F13-F17)/F13 -> 0.88094882 | H42: =(H13-H17)/H13 -> 0.88049785 | J42: =(J13-J17)/J13 -> 0.87263044 | L42: =(L13-L17)/L13 -> 0.88001068 | N42: =(N13-N17)/N13 -> 0.88475799 | P42: =(P13-P17)/P13 -> 0.87970407 | R42: =(R13-R17)/R13 -> 0.86674981 | T42: =(T13-T17)/T13 -> 0.86446468 | V42: =(V13-V17)/V13 -> 0.8666656 | X42: =(X13-X17)/X13 -> 0.87353334 | Z42: =(Z13-Z17)/Z13 -> 0.86790776 | AB42: =(AB13-AB17)/AB13 -> 0.84768406
A43: Gross margin on professional services | B43: =(B14-B18)/B14 -> 0.0243309 | D43: =(D14-D18)/D14 -> 0.10109974 | F43: =(F14-F18)/F14 -> 0.11124816 | H43: =(H14-H18)/H14 -> 0.12786963 | J43: =(J14-J18)/J14 -> 0.16997267 | L43: =(L14-L18)/L14 -> 0.12252279 | N43: =(N14-N18)/N14 -> 0.072644068 | P43: =(P14-P18)/P14 -> 0.124678 | R43: =(R14-R18)/R14 -> 0.10217143 | T43: =(T14-T18)/T14 -> 0.13297443 | V43: =(V14-V18)/V14 -> 0.13842991 | X43: =(X14-X18)/X14 -> 0.10517972 | Z43: =(Z14-Z18)/Z14 -> 0.11951586 | AB43: =(AB14-AB18)/AB14 -> 0.12142654
A44: Operating margin | B44: =B28/B15 -> 0.10035914 | D44: =D28/D15 -> 0.10201333 | F44: =F28/F15 -> 0.098430587 | H44: =H28/H15 -> 0.16887282 | J44: =J28/J15 -> 0.15580469 | L44: =L28/L15 -> 0.16155231 | N44: =N28/N15 -> 0.098465264 | P44: =P28/P15 -> 0.14486425 | R44: =R28/R15 -> 0.11563043 | T44: =T28/T15 -> 0.012695825 | V44: =V28/V15 -> 0.071283647 | X44: =X28/X15 -> -0.069136956 | Z44: =Z28/Z15 -> 0.033153766 | AB44: =AB28/AB15 -> -0.045674308
A45: S&M % of total revenue | B45: =B22/B15 -> 0.30480595 | D45: =D22/D15 -> 0.30730147 | F45: =F22/F15 -> 0.28864566 | H45: =H22/H15 -> 0.2687851 | J45: =J22/J15 -> 0.26991786 | L45: =L22/L15 -> 0.27801707 | N45: =N22/N15 -> 0.2667163 | P45: =P22/P15 -> 0.27079067 | R45: =R22/R15 -> 0.27496144 | T45: =T22/T15 -> 0.26698481 | V45: =V22/V15 -> 0.29148535 | X45: =X22/X15 -> 0.27223516 | Z45: =Z22/Z15 -> 0.27627661 | AB45: =AB22/AB15 -> 0.28324462
A46: R&D % of total revenue | B46: =B23/B15 -> 0.1811613 | D46: =D23/D15 -> 0.17119025 | F46: =F23/F15 -> 0.17155854 | H46: =H23/H15 -> 0.16333923 | J46: =J23/J15 -> 0.16924551 | L46: =L23/L15 -> 0.17052645 | N46: =N23/N15 -> 0.16467326 | P46: =P23/P15 -> 0.16691342 | R46: =R23/R15 -> 0.18773545 | T46: =T23/T15 -> 0.19151341 | V46: =V23/V15 -> 0.17840871 | X46: =X23/X15 -> 0.16693967 | Z46: =Z23/Z15 -> 0.18125031 | AB46: =AB23/AB15 -> 0.19816368
...

Sheet Non-GAAP Income Statement
A1: Trended PTC Consolidated Statements of Operations - Non-GAAP
B3: FY'11 | D3: FY'12 | F3: FY'13 | H3: FY'14 | R3: FY'15 | AB3: FY'16
B5: Yr Ended | D5: Yr Ended | F5: Yr Ended | H5: Quarter Ended | P5: Yr Ended | R5: Quarter Ended | Z5: Yr Ended | AB5: QE
B6: 40816 | D6: 41182 | F6: 41547 | H6: 41636 | J6: 41727 | L6: 41818 | N6: 41912 | P6: 41912 | R6: 42007 | T6: 42098 | V6: 42189 | X6: 41912 | Z6: 41912 | AB6: 42371
A7: (in millions, except per share amounts)
A8: Revenue:
A9: Subscription | B9: 0.115 | D9: 0 | F9: 10.074 | H9: 3.674 | J9: 3.592 | L9: 7.305 | N9: 13.036 | P9: =SUM(H9,J9,L9,N9) -> 27.607 | R9: 14.905 | T9: 16.355 | V9: 17.507 | X9: 18.303 | Z9: =SUM(R9,T9,V9,X9) -> 67.07 | AB9: 22.364
A10: Support | B10: 560.284 | D10: 614.428 | F10: 657.712 | H10: 170.142 | J10: 166.249 | L10: 172.021 | N10: 180.438 | P10: =SUM(H10,J10,L10,N10) -> 688.85 | R10: 182.094 | T10: 168.992 | V10: 165.812 | X10: 165.525 | Z10: =SUM(R10,T10,V10,X10)-0.001 -> 682.422 | AB10: 171.756
A11: Total recurring software | B11: =SUM(B9:B10) -> 560.399 | D11: =SUM(D9:D10) -> 614.428 | F11: =SUM(F9:F10) -> 667.786 | H11: =SUM(H9:H10) -> 173.816 | J11: =SUM(J9:J10) -> 169.841 | L11: =SUM(L9:L10) -> 179.326 | N11: =SUM(N9:N10) -> 193.474 | P11: =SUM(P9:P10) -> 716.457 | R11: =SUM(R9:R10) -> 196.999 | T11: =SUM(T9:T10) -> 185.347 | V11: =SUM(V9:V10) -> 183.319 | X11: =SUM(X9:X10) -> 183.828 | Z11: =SUM(Z9:Z10) -> 749.492 | AB11: =SUM(AB9:AB10) -> 194.12
A12: Perpetual license | B12: 342.006 | D12: 348.394 | F12: 344.209 | H12: 79.192 | J12: 84.953 | L12: 90.398 | N12: 108.347 | P12: =SUM(H12,J12,L12,N12) -> 362.89 | R12: 64.748 | T12: 70.187 | V12: 66.771 | X12: 81.053 | Z12: =SUM(R12,T12,V12,X12)+0.001 -> 282.76 | AB12: 47.763
A13: Total software | B13: =SUM(B11:B12) -> 902.405 | D13: =SUM(D11:D12) -> 962.822 | F13: =SUM(F11:F12) -> 1011.995 | H13: =SUM(H11:H12) -> 253.008 | J13: =SUM(J11:J12) -> 254.794 | L13: =SUM(L11:L12) -> 269.724 | N13: =SUM(N11:N12) -> 301.821 | P13: =SUM(P11:P12) -> 1079.347 | R13: =SUM(R11:R12) -> 261.747 | T13: =SUM(T11:T12) -> 255.534 | V13: =SUM(V11:V12) -> 250.09 | X13: =SUM(X11:X12) -> 264.881 | Z13: =SUM(Z11:Z12) -> 1032.252 | AB13: =SUM(AB11:AB12) -> 241.883
A14: Professional services | B14: 267.15 | D14: 295.342 | F14: 284.581 | H14: 71.917 | J14: 73.906 | L14: 66.91 | N14: 66.136 | P14: =SUM(H14,J14,L14,N14) -> 278.869 | R14: 65.099 | T14: 59.718 | V14: 53.809 | X14: 48.233 | Z14: =SUM(R14,T14,V14,X14) -> 226.859 | AB14: 49.631
A15: Total revenue | B15: =SUM(B13:B14) -> 1169.555 | D15: =SUM(D13:D14) -> 1258.164 | F15: =SUM(F13:F14) -> 1296.576 | H15: =SUM(H13:H14) -> 324.925 | J15: =SUM(J13:J14) -> 328.7 | L15: =SUM(L13:L14) -> 336.634 | N15: =SUM(N13:N14) -> 367.957 | P15: =SUM(P13:P14) -> 1358.216 | R15: =SUM(R13:R14) -> 326.846 | T15: =SUM(T13:T14) -> 315.252 | V15: =SUM(V13:V14) -> 303.899 | X15: =SUM(X13:X14) -> 313.114 | Z15: =SUM(Z13:Z14) -> 1259.111 | AB15: =SUM(AB13:AB14) -> 291.514
A16: Cost of revenue:
A17: Cost of software | B17: 77.989 | D17: 87.571 | F17: 98.187 | H17: 24.749 | J17: 27.075 | L17: 26.988 | N17: 28.723 | P17: =SUM(H17,J17,L17,N17) -> 107.535 | R17: 29.04 | T17: 28.697 | V17: 27.192 | X17: 27.365 | Z17: =SUM(R17,T17,V17,X17) -> 112.294 | AB17: 29.782
A18: Cost of professional services | B18: 255.639 | D18: 259.8 | F18: 246.787 | H18: 61.184 | J18: 59.995 | L18: 57.163 | N18: 59.349 | P18: =SUM(H18,J18,L18,N18) -> 237.691 | R18: 56.634 | T18: 50.183 | V18: 44.912 | X18: 41.668 | Z18: =SUM(R18,T18,V18,X18) -> 193.397 | AB18: 42.014
A19: Total cost of revenue | B19: 333.628 | D19: 347.371 | F19: 344.974 | H19: =SUM(H17:H18) -> 85.933 | J19: =SUM(J17:J18) -> 87.07 | L19: =SUM(L17:L18) -> 84.151 | N19: =SUM(N17:N18) -> 88.072 | P19: =SUM(H19,J19,L19,N19) -> 345.226 | R19: =SUM(R17:R18) -> 85.674 | T19: =SUM(T17:T18) -> 78.88 | V19: =SUM(V17:V18) -> 72.104 | X19: =SUM(X17:X18) -> 69.033 | Z19: =SUM(R19,T19,V19,X19) -> 305.691 | AB19: =SUM(AB17:AB18) -> 71.796
A20: Gross profit | B20: 835.927 | D20: 910.793 | F20: 951.602 | H20: =H15-H19 -> 238.992 | J20: =J15-J19 -> 241.63 | L20: =L15-L19 -> 252.483 | N20: =N15-N19 -> 279.885 | P20: =P15-P19 -> 1012.99 | R20: =R15-R19 -> 241.172 | T20: =T15-T19 -> 236.372 | V20: =V15-V19 -> 231.795 | X20: =X15-X19 -> 244.081 | Z20: =Z15-Z19 -> 953.42 | AB20: =AB15-AB19 -> 219.718
A21: Operating expenses:
A22: Sales and marketing | B22: 344.265 | D22: 370.267 | F22: 359.435 | H22: =81.739+2.343 -> 84.082 | J22: =82.915+2.26 -> 85.175 | L22: =88.375+1.57 -> 89.945 | N22: =93.538+1.375 -> 94.913 | P22: =SUM(H22,J22,L22,N22) -> 354.115 | R22: =84.735+1.548 -> 86.283 | T22: =78.943+1.377 -> 80.32 | V22: =83.024+1.254 -> 84.278 | X22: =79.852+1.872 -> 81.724 | Z22: =SUM(R22,T22,V22,X22) -> 332.605 | AB22: 78.147
A23: Research and development | B23: 202.859 | D23: 206.199 | F23: 213.328 | H23: 50.384 | J23: 53.484 | L23: 55.174 | N23: 57.335 | P23: =SUM(H23,J23,L23,N23) -> 216.377 | R23: 58.011 | T23: 57.157 | V23: =51.15 -> 51.15 | X23: 49.572 | Z23: =SUM(R23,T23,V23,X23) -> 215.89 | AB23: 55.156
A24: General and administrative | B24: 82.208 | D24: 87.558 | F24: 92.569 | H24: =24.576-2.343 -> 22.233 | J24: =25.125-2.26 -> 22.865 | L24: =27.563-1.57 -> 25.993 | N24: =32.494-1.375 -> 31.119 | P24: =SUM(H24,J24,L24,N24) -> 102.21 | R24: =28.613-1.548 -> 27.065 | T24: =26.501-1.377 -> 25.124 | V24: =24.442-1.254 -> 23.188 | X24: =27.093-1.872 -> 25.221 | Z24: =SUM(R24,T24,V24,X24) -> 100.598 | AB24: 24.322
A25: Amortization of acquired intangible assets | B25: 0 | D25: 0 | F25: 0 | H25: 0 | J25: 0 | L25: 0 | N25: 0 | P25: =SUM(H25,J25,L25,N25) -> 0 | R25: 0 | T25: 0 | V25: 0 | X25: 0 | Z25: =SUM(R25,T25,V25,X25) -> 0 | AB25: 0
A26: Restructuring and other charges (credits) | B26: 0 | D26: 0 | F26: 0 | H26: 0 | J26: 0 | L26: 0 | N26: 0 | P26: =SUM(H26,J26,L26,N26) -> 0 | R26: 0 | T26: 0 | V26: 0 | X26: 0 | Z26: =SUM(R26,T26,V26,X26) -> 0 | AB26: 0
A27: Total operating expenses | B27: 629.332 | D27: 664.024 | F27: 665.332 | H27: =SUM(H22:H26) -> 156.699 | I27: =SUM(I22:I26) -> 0 | J27: =SUM(J22:J26) -> 161.524 | K27: =SUM(K22:K26) -> 0 | L27: =SUM(L22:L26) -> 171.112 | M27: =SUM(M22:M26) -> 0 | N27: =SUM(N22:N26) -> 183.367 | O27: =SUM(O22:O26) -> 0 | P27: =SUM(P22:P26) -> 672.702 | R27: =SUM(R22:R26) -> 171.359 | S27: =SUM(S22:S26) -> 0 | T27: =SUM(T22:T26) -> 162.601 | U27: =SUM(U22:U26) -> 0 | V27: =SUM(V22:V26) -> 158.616 | X27: =SUM(X22:X26) -> 156.517 | Z27: =SUM(Z22:Z26) -> 649.093 | AB27: =SUM(AB22:AB26) -> 157.625
A28: Operating income (loss) | B28: 206.595 | D28: 246.769 | F28: 286.27 | H28: =H20-H27 -> 82.293 | I28: =I20-I27 -> 0 | J28: =J20-J27 -> 80.106 | K28: =K20-K27 -> 0 | L28: =L20-L27 -> 81.371 | M28: =M20-M27 -> 0 | N28: =N20-N27 -> 96.518 | O28: =O20-O27 -> 0 | P28: =P20-P27 -> 340.288 | R28: =R20-R27 -> 69.813 | S28: =S20-S27 -> 0 | T28: =T20-T27 -> 73.771 | U28: =U20-U27 -> 0 | V28: =V20-V27 -> 73.179 | X28: =X20-X27 -> 87.564 | Z28: =Z20-Z27 -> 304.327 | AB28: =AB20-AB27 -> 62.093
A29: Interest and other income (expense), net | B29: -7.459 | D29: -6.599 | F29: -6.807 | H29: -1.753 | J29: -2.692 | L29: -2.278 | N29: -3.74 | P29: =SUM(H29,J29,L29,N29)-0.001 -> -10.464 | R29: -3.224 | T29: -3.601 | V29: -3.668 | X29: -4.598 | Z29: =SUM(R29,T29,V29,X29) -> -15.091 | AB29: -3.894
A30: Income (loss) before income taxes | B30: 199.136 | D30: 240.17 | F30: 279.463 | H30: =SUM(H28:H29) -> 80.54 | J30: =SUM(J28:J29) -> 77.414 | L30: =SUM(L28:L29) -> 79.093 | N30: =SUM(N28:N29) -> 92.778 | P30: =SUM(P28:P29) -> 329.824 | R30: =SUM(R28:R29) -> 66.589 | T30: =SUM(T28:T29) -> 70.17 | V30: =SUM(V28:V29) -> 69.511 | X30: =SUM(X28:X29) -> 82.966 | Z30: =SUM(Z28:Z29) -> 289.236 | AB30: =SUM(AB28:AB29) -> 58.199
A31: Provision (benefit) for income taxes | B31: 46.97 | D31: 57.307 | F31: 60.299 | H31: 20.319 | J31: 19.719 | L31: 15.355 | N31: 14.053 | P31: =SUM(H31,J31,L31,N31) -> 69.446 | R31: 7.609 | T31: 8.752 | V31: 7.813 | X31: 5.882 | Z31: =SUM(R31,T31,V31,X31) -> 30.056 | AB31: -0.583
A32: Net income (loss) | B32: 152.166 | D32: 182.863 | F32: 219.164 | H32: =+H30-H31 -> 60.221 | J32: =+J30-J31 -> 57.695 | L32: =+L30-L31 -> 63.738 | N32: =+N30-N31 -> 78.725 | P32: =+P30-P31 -> 260.378 | R32: =+R30-R31 -> 58.98 | T32: =+T30-T31 -> 61.418 | V32: =+V30-V31 -> 61.698 | X32: =+X30-X31 -> 77.084 | Z32: =+Z30-Z31 -> 259.18 | AB32: =+AB30-AB31 -> 58.782
A34: Basic net income (loss) per share | B34: 1.29 | D34: 1.54 | F34: 1.83 | H34: =ROUND(H32/H36,2) -> 0.51 | J34: =ROUND(J32/J36,2) -> 0.48 | L34: =ROUND(L32/L36,2) -> 0.54 | N34: =ROUND(N32/N36,2) -> 0.68 | P34: =ROUND(P32/P36,2) -> 2.2 | R34: =ROUND(R32/R36,2) -> 0.51 | T34: =ROUND(T32/T36,2) -> 0.53 | V34: =ROUND(V32/V36,2) -> 0.54 | X34: =ROUND(X32/X36,2) -> 0.68 | Z34: =ROUND(Z32/Z36,2) -> 2.26 | AB34: =ROUND(AB32/AB36,2) -> 0.51
A35: Diluted net income (loss) per share | B35: 1.26 | D35: 1.51 | F35: 1.81 | H35: =ROUND(H32/H37,2) -> 0.5 | J35: =ROUND(J32/J37,2) -> 0.48 | L35: =ROUND(L32/L37,2) -> 0.53 | N35: =ROUND(N32/N37,2) -> 0.67 | P35: =ROUND(P32/P37,2) -> 2.17 | R35: =ROUND(R32/R37,2) -> 0.5 | T35: =ROUND(T32/T37,2) -> 0.53 | V35: =ROUND(V32/V37,2) -> 0.53 | X35: =ROUND(X32/X37,2) -> 0.67 | Z35: =ROUND(Z32/Z37,2) -> 2.23 | AB35: =ROUND(AB32/AB37,2) -> 0.51
A36: Weighted average shares outstanding -- Basic | B36: 117.579 | D36: 118.705 | F36: 119.473 | H36: 118.933 | J36: 118.978 | L36: 118.328 | N36: 116.173 | P36: 118.094 | R36: 115.341 | T36: 114.944 | V36: 114.764 | X36: 113.99 | Z36: 114.775 | AB36: 114.151
A37: Weighted average shares outstanding -- Diluted | B37: 120.974 | D37: 120.998 | F37: 121.24 | H37: 121.1 | J37: 120.698 | L37: 119.901 | N37: 118.275 | P37: 119.984 | R37: 117.027 | T37: 115.922 | V37: 116.025 | X37: 115.025 | Z37: 116.012 | AB37: 115.239
A41: Gross margin: | B41: =B20/B15 -> 0.71473937 | D41: =D20/D15 -> 0.72390642 | F41: =F20/F15 -> 0.73393461 | H41: =H20/H15 -> 0.73552974 | J41: =J20/J15 -> 0.735108 | L41: =L20/L15 -> 0.75002228 | N41: =N20/N15 -> 0.76064595 | P41: =P20/P15 -> 0.74582393 | R41: =R20/R15 -> 0.73787655 | T41: =T20/T15 -> 0.74978747 | V41: =V20/V15 -> 0.76273696 | X41: =X20/X15 -> 0.77952758 | Z41: =Z20/Z15 -> 0.7572168 | AB41: =AB20/AB15 -> 0.75371337
A42: Gross margin on software | B42: =(B13-B17)/B13 -> 0.9135765 | D42: =(D13-D17)/D13 -> 0.90904757 | F42: =(F13-F17)/F13 -> 0.90297679 | H42: =(H13-H17)/H13 -> 0.90218096 | J42: =(J13-J17)/J13 -> 0.89373769 | L42: =(L13-L17)/L13 -> 0.89994216 | N42: =(N13-N17)/N13 -> 0.90483432 | P42: =(P13-P17)/P13 -> 0.90037032 | R42: =(R13-R17)/R13 -> 0.88905317 | T42: =(T13-T17)/T13 -> 0.88769792 | V42: =(V13-V17)/V13 -> 0.89127114 | X42: =(X13-X17)/X13 -> 0.89668946 | Z42: =(Z13-Z17)/Z13 -> 0.89121455 | AB42: =(AB13-AB17)/AB13 -> 0.87687436
A43: Gross margin on professional services | B43: =(B14-B18)/B14 -> 0.043088153 | D43: =(D14-D18)/D14 -> 0.12034184 | F43: =(F14-F18)/F14 -> 0.13280577 | H43: =(H14-H18)/H14 -> 0.14924149 | J43: =(J14-J18)/J14 -> 0.18822558 | L43: =(L14-L18)/L14 -> 0.14567329 | N43: =(N14-N18)/N14 -> 0.10262187 | P43: =(P14-P18)/P14 -> 0.14766073 | R43: =(R14-R18)/R14 -> 0.13003272 | T43: =(T14-T18)/T14 -> 0.1596671 | V43: =(V14-V18)/V14 -> 0.16534409 | X43: =(X14-X18)/X14 -> 0.13611013 | Z43: =(Z14-Z18)/Z14 -> 0.14750131 | AB43: =(AB14-AB18)/AB14 -> 0.15347263
A44: Operating margin: | B44: =B28/B15 -> 0.17664411 | D44: =D28/D15 -> 0.19613421 | F44: =F28/F15 -> 0.22078922 | H44: =H28/H15 -> 0.25326768 | J44: =J28/J15 -> 0.24370551 | L44: =L28/L15 -> 0.24171949 | N44: =N28/N15 -> 0.26230782 | P44: =P28/P15 -> 0.25054041 | R44: =R28/R15 -> 0.21359601 | T44: =T28/T15 -> 0.23400645 | V44: =V28/V15 -> 0.2408004 | X44: =X28/X15 -> 0.27965533 | Z44: =Z28/Z15 -> 0.2416999 | AB44: =AB28/AB15 -> 0.21300178
A45: S&M % of total revenue | B45: =B22/B15 -> 0.29435555 | D45: =D22/D15 -> 0.29429152 | F45: =F22/F15 -> 0.27721861 | H45: =H22/H15 -> 0.25877356 | J45: =J22/J15 -> 0.25912686 | L45: =L22/L15 -> 0.26718929 | N45: =N22/N15 -> 0.2579459 | P45: =P22/P15 -> 0.26072068 | R45: =R22/R15 -> 0.26398671 | T45: =T22/T15 -> 0.2547803 | V45: =V22/V15 -> 0.2773224 | X45: =X22/X15 -> 0.26100398 | Z45: =Z22/Z15 -> 0.2641586 | AB45: =AB22/AB15 -> 0.26807289
A46: R&D % of total revenue | B46: =B23/B15 -> 0.17344973 | D46: =D23/D15 -> 0.16388881 | F46: =F23/F15 -> 0.16453181 | H46: =H23/H15 -> 0.15506348 | J46: =J23/J15 -> 0.16271372 | L46: =L23/L15 -> 0.16389907 | N46: =N23/N15 -> 0.15581984 | P46: =P23/P15 -> 0.15930971 | R46: =R23/R15 -> 0.17748726 | T46: =T23/T15 -> 0.18130575 | V46: =V23/V15 -> 0.1683125 | X46: =X23/X15 -> 0.15831933 | Z46: =Z23/Z15 -> 0.17146225 | AB46: =AB23/AB15 -> 0.18920532
...

Sheet GAAP vs Non-GAAP
A1: Trended PTC Consolidated Statements of Operations - Reconciliation between GAAP and Non-GAAP
B3: FY'11 | D3: FY'12 | F3: FY'13 | H3: FY'14 | R3: FY'15 | AB3: FY'16
B5: Yr Ended | D5: Yr Ended | F5: Yr Ended | H5: Quarter Ended | P5: Yr Ended | R5: Quarter Ended | Z5: Yr Ended | AB5: QE
B6: 40816 | D6: 41182 | F6: 41547 | H6: 41636 | J6: 41727 | L6: 41818 | N6: 41912 | P6: 41912 | R6: 42007 | T6: 42098 | V6: 42189 | X6: 41912 | Z6: 42277 | AB6: 42371
A7: (in millions, except per share amounts and %)
A8: GAAP revenue | B8: =+'GAAP Income Statement'!B15 -> 1166.949 | D8: =+'GAAP Income Statement'!D15 -> 1255.679 | F8: =+'GAAP Income Statement'!F15 -> 1293.541 | H8: =+'GAAP Income Statement'!H15 -> 324.925 | J8: =+'GAAP Income Statement'!J15 -> 328.7 | L8: =+'GAAP Income Statement'!L15 -> 336.634 | N8: =+'GAAP Income Statement'!N15 -> 366.708 | P8: =+'GAAP Income Statement'!P15 -> 1356.967 | R8: =+'GAAP Income Statement'!R15 -> 325.442 | T8: =+'GAAP Income Statement'!T15 -> 314.119 | V8: =+'GAAP Income Statement'!V15 -> 303.113 | X8: =+'GAAP Income Statement'!X15 -> 312.568 | Z8: =+'GAAP Income Statement'!Z15 -> 1255.242 | AB8: =+'GAAP Income Statement'!AB15 -> 291.017
A9: Fair value adjustment of acquired deferred subscription revenue | B9: 0 | D9: 0 | F9: 0 | H9: 0 | J9: 0 | L9: 0 | N9: 0.47 | P9: =SUM(H9,J9,L9,N9) -> 0.47 | R9: 0.682 | T9: 0.59 | V9: 0.352 | X9: 0.207 | Z9: =SUM(R9,T9,V9,X9) -> 1.831 | AB9: 0.188
A10: Fair value adjustment of acquired deferred support revenue | B10: 2.606 | D10: 2.485 | F10: 3.034 | H10: 0 | J10: 0 | L10: 0 | N10: 0.348 | P10: =SUM(H10,J10,L10,N10) -> 0.348 | R10: 0.465 | T10: 0.265 | V10: 0.125 | X10: 0.043 | Z10: =SUM(R10,T10,V10,X10) -> 0.898 | AB10: 0
A11: Fair value adjustment of acquired deferred perpetual license revenue | B11: 0 | D11: 0 | F11: 0 | H11: 0 | J11: 0 | L11: 0 | N11: 0.288 | P11: =SUM(H11,J11,L11,N11) -> 0.288 | R11: 0 | T11: 0 | Z11: =SUM(R11,T11,V11,X11) -> 0 | AB11: 0
A12: Fair value adjustment of acquired deferred services revenue | B12: 0 | D12: 0 | F12: 0.001 | H12: 0 | J12: 0 | L12: 0 | N12: 0.143 | P12: =SUM(H12,J12,L12,N12) -> 0.143 | R12: 0.257 | T12: 0.278 | V12: 0.309 | X12: 0.296 | Z12: =SUM(R12,T12,V12,X12) -> 1.14 | AB12: 0.309
A13: Non-GAAP revenue | B13: ='Non-GAAP Income Statement'!B15 -> 1169.555 | D13: ='Non-GAAP Income Statement'!D15 -> 1258.164 | F13: ='Non-GAAP Income Statement'!F15 -> 1296.576 | H13: ='Non-GAAP Income Statement'!H15 -> 324.925 | J13: ='Non-GAAP Income Statement'!J15 -> 328.7 | L13: ='Non-GAAP Income Statement'!L15 -> 336.634 | N13: ='Non-GAAP Income Statement'!N15 -> 367.957 | P13: ='Non-GAAP Income Statement'!P15 -> 1358.216 | R13: ='Non-GAAP Income Statement'!R15 -> 326.846 | T13: ='Non-GAAP Income Statement'!T15 -> 315.252 | V13: ='Non-GAAP Income Statement'!V15 -> 303.899 | X13: ='Non-GAAP Income Statement'!X15 -> 313.114 | Z13: ='Non-GAAP Income Statement'!Z15 -> 1259.111 | AB13: ='Non-GAAP Income Statement'!AB15 -> 291.514
A15: GAAP cost of revenue | B15: ='GAAP Income Statement'!B19 -> 356.768 | D15: ='GAAP Income Statement'!D19 -> 372.128 | F15: ='GAAP Income Statement'!F19 -> 373.039 | H15: ='GAAP Income Statement'!H19 -> 92.956 | J15: ='GAAP Income Statement'!J19 -> 93.797 | L15: ='GAAP Income Statement'!L19 -> 91.076 | N15: ='GAAP Income Statement'!N19 -> 95.854 | P15: ='GAAP Income Statement'!P19 -> 373.683 | R15: ='GAAP Income Statement'!R19 -> 92.942 | T15: ='GAAP Income Statement'!T19 -> 86.054 | V15: ='GAAP Income Statement'!V19 -> 79.376 | X15: ='GAAP Income Statement'!X19 -> 76.362 | Z15: ='GAAP Income Statement'!Z19 -> 334.734 | AB15: ='GAAP Income Statement'!AB19 -> 80.147
A16: Software stock-based compensation expense | B16: -2.736 | D16: -3.256 | F16: -3.345 | H16: -0.989 | J16: -0.971 | L16: -0.961 | N16: -1.138 | P16: =SUM(H16,J16,L16,N16) -> -4.059 | R16: -0.918 | T16: -1.107 | V16: -1.133 | X16: -1.138 | Z16: =SUM(R16,T16,V16,X16) -> -4.296 | AB16: -1.905
A17: Professional services stock-based compensation expense | B17: -5.011 | D17: -5.682 | F17: -6.134 | H17: -1.537 | J17: -1.349 | L17: -1.549 | N17: -1.916 | P17: =SUM(H17,J17,L17,N17) -> -6.351 | R17: -1.689 | T17: -1.504 | V17: -1.317 | X17: -1.361 | Z17: =SUM(R17,T17,V17,X17) -> -5.871 | AB17: -1.451
A18: Fair value adjustment to deferred services cost | B18: 0 | D18: 0 | F18: 0 | H18: 0 | J18: 0 | L18: 0 | N18: 0.065 | P18: =SUM(H18,J18,L18,N18) -> 0.065 | R18: 0.106 | T18: 0.151 | V18: 0.135 | X18: 0.134 | Z18: =SUM(R18,T18,V18,X18) -> 0.526 | AB18: 0.132
A19: Software amortization of acquired intangible assets | B19: -15.393 | D19: -15.819 | F19: -18.586 | H19: -4.497 | J19: -4.407 | L19: -4.415 | N19: -4.793 | P19: =SUM(H19,J19,L19,N19) -> -18.112 | R19: -4.767 | T19: -4.714 | V19: -4.957 | X19: -4.964 | Z19: =SUM(R19,T19,V19,X19) -> -19.402 | AB19: -5.127
A20: Professional services amortization of acquired intangible assets | B20: 0 | D20: 0 | F20: 0 | H20: 0 | J20: 0 | L20: 0 | N20: 0 | P20: =SUM(H20,J20,L20,N20) -> 0 | R20: 0 | T20: 0 | V20: 0 | X20: 0 | Z20: =SUM(R20,T20,V20,X20) -> 0 | AB20: 0
A21: Non-GAAP cost of revenue | B21: ='Non-GAAP Income Statement'!B19 -> 333.628 | D21: ='Non-GAAP Income Statement'!D19 -> 347.371 | F21: ='Non-GAAP Income Statement'!F19 -> 344.974 | H21: ='Non-GAAP Income Statement'!H19 -> 85.933 | J21: ='Non-GAAP Income Statement'!J19 -> 87.07 | L21: ='Non-GAAP Income Statement'!L19 -> 84.151 | N21: ='Non-GAAP Income Statement'!N19 -> 88.072 | P21: ='Non-GAAP Income Statement'!P19 -> 345.226 | R21: ='Non-GAAP Income Statement'!R19 -> 85.674 | T21: ='Non-GAAP Income Statement'!T19 -> 78.88 | V21: ='Non-GAAP Income Statement'!V19 -> 72.104 | X21: ='Non-GAAP Income Statement'!X19 -> 69.033 | Z21: ='Non-GAAP Income Statement'!Z19 -> 305.691 | AB21: ='Non-GAAP Income Statement'!AB19 -> 71.796
A23: GAAP gross profit | B23: ='GAAP Income Statement'!B20 -> 810.181 | D23: ='GAAP Income Statement'!D20 -> 883.551 | F23: ='GAAP Income Statement'!F20 -> 920.502 | H23: ='GAAP Income Statement'!H20 -> 231.969 | J23: ='GAAP Income Statement'!J20 -> 234.903 | L23: ='GAAP Income Statement'!L20 -> 245.558 | N23: ='GAAP Income Statement'!N20 -> 270.854 | P23: ='GAAP Income Statement'!P20 -> 983.284 | R23: ='GAAP Income Statement'!R20 -> 232.5 | T23: ='GAAP Income Statement'!T20 -> 228.065 | V23: ='GAAP Income Statement'!V20 -> 223.737 | X23: ='GAAP Income Statement'!X20 -> 236.206 | Z23: ='GAAP Income Statement'!Z20 -> 920.508 | AB23: ='GAAP Income Statement'!AB20 -> 210.87
A24: Fair value adjustment of acquired deferred revenue | B24: =+B9+B10+B12+B11 -> 2.606 | D24: =+D9+D10+D12+D11 -> 2.485 | F24: =+F9+F10+F12+F11 -> 3.035 | H24: =+H9+H10+H12+H11 -> 0 | J24: =+J9+J10+J12+J11 -> 0 | L24: =+L9+L10+L12+L11 -> 0 | N24: =+N9+N10+N12+N11 -> 1.249 | P24: =+P9+P10+P12+P11 -> 1.249 | R24: =+R9+R10+R12+R11 -> 1.404 | T24: =+T9+T10+T12+T11 -> 1.133 | V24: =+V9+V10+V12+V11 -> 0.786 | X24: =+X9+X10+X12+X11 -> 0.546 | Z24: =+Z9+Z10+Z12+Z11 -> 3.869 | AB24: =+AB9+AB10+AB12+AB11 -> 0.497
A25: Stock-based compensation expense | B25: =-B16-B17 -> 7.747 | D25: =-D16-D17 -> 8.938 | F25: =-F16-F17 -> 9.479 | H25: =-H16-H17 -> 2.526 | J25: =-J16-J17 -> 2.32 | L25: =-L16-L17 -> 2.51 | N25: =-N16-N17 -> 3.054 | P25: =-P16-P17 -> 10.41 | R25: =-R16-R17 -> 2.607 | T25: =-T16-T17 -> 2.611 | V25: =-V16-V17 -> 2.45 | X25: =-X16-X17 -> 2.499 | Z25: =-Z16-Z17 -> 10.167 | AB25: =-AB16-AB17 -> 3.356
A26: Fair value adjustment to deferred services cost | B26: =-B18 -> 0 | D26: =-D18 -> 0 | F26: =-F18 -> 0 | H26: =-H18 -> 0 | J26: =-J18 -> 0 | L26: =-L18 -> 0 | N26: =-N18 -> -0.065 | P26: =-P18 -> -0.065 | R26: =-R18 -> -0.106 | T26: =-T18 -> -0.151 | V26: =-V18 -> -0.135 | X26: -0.134 | Z26: =-Z18 -> -0.526 | AB26: =-AB18 -> -0.132
A27: Amortization of acquired intangible assets | B27: =-B19-B20 -> 15.393 | D27: =-D19-D20 -> 15.819 | F27: =-F19-F20 -> 18.586 | H27: =-H19-H20 -> 4.497 | J27: =-J19-J20 -> 4.407 | L27: =-L19-L20 -> 4.415 | N27: =-N19-N20 -> 4.793 | P27: =-P19-P20 -> 18.112 | R27: =-R19-R20 -> 4.767 | T27: =-T19-T20 -> 4.714 | V27: =-V19-V20 -> 4.957 | X27: 4.964 | Z27: =-Z19-Z20 -> 19.402 | AB27: =-AB19-AB20 -> 5.127
A28: Non-GAAP gross profit | B28: ='Non-GAAP Income Statement'!B20 -> 835.927 | D28: ='Non-GAAP Income Statement'!D20 -> 910.793 | F28: ='Non-GAAP Income Statement'!F20 -> 951.602 | H28: ='Non-GAAP Income Statement'!H20 -> 238.992 | J28: ='Non-GAAP Income Statement'!J20 -> 241.63 | L28: ='Non-GAAP Income Statement'!L20 -> 252.483 | N28: ='Non-GAAP Income Statement'!N20 -> 279.885 | P28: ='Non-GAAP Income Statement'!P20 -> 1012.99 | R28: ='Non-GAAP Income Statement'!R20 -> 241.172 | T28: ='Non-GAAP Income Statement'!T20 -> 236.372 | V28: ='Non-GAAP Income Statement'!V20 -> 231.795 | X28: ='Non-GAAP Income Statement'!X20 -> 244.081 | Z28: ='Non-GAAP Income Statement'!Z20 -> 953.42 | AB28: ='Non-GAAP Income Statement'!AB20 -> 219.718
A30: GAAP gross margin | B30: ='GAAP Income Statement'!B41 -> 0.69427284 | D30: ='GAAP Income Statement'!D41 -> 0.703644 | F30: ='GAAP Income Statement'!F41 -> 0.71161409 | H30: ='GAAP Income Statement'!H41 -> 0.71391552 | J30: ='GAAP Income Statement'!J41 -> 0.71464253 | L30: ='GAAP Income Statement'!L41 -> 0.72945098 | N30: ='GAAP Income Statement'!N41 -> 0.73860947 | P30: ='GAAP Income Statement'!P41 -> 0.72461895 | R30: ='GAAP Income Statement'!R41 -> 0.71441301 | T30: ='GAAP Income Statement'!T41 -> 0.7260465 | V30: ='GAAP Income Statement'!V41 -> 0.73813066 | X30: ='GAAP Income Statement'!X41 -> 0.75569476 | Z30: ='GAAP Income Statement'!Z41 -> 0.7333311 | AB30: ='GAAP Income Statement'!AB41 -> 0.72459684
A31: Fair value adjustment of acquired deferred revenue | B31: =+B24/B$8 -> 0.0022331739 | D31: =+D24/D$8 -> 0.001979009 | F31: =+F24/F$8 -> 0.0023462728 | H31: =+H24/H$8 -> 0 | J31: =+J24/J$8 -> 0 | L31: =+L24/L$8 -> 0 | N31: =+N24/N$8 -> 0.0034059797 | P31: =+P24/P$8 -> 0.00092043506 | R31: =+R24/R$8 -> 0.0043141328 | T31: =+T24/T$8 -> 0.0036069133 | V31: =+V24/V$8 -> 0.0025930923 | X31: =+X24/X$8 -> 0.0017468199 | Z31: =+Z24/Z$8 -> 0.0030822742 | AB31: =+AB24/AB$8 -> 0.001707804
A32: Stock-based compensation expense | B32: =+B25/B$8 -> 0.0066386792 | D32: =+D25/D$8 -> 0.0071180612 | F32: =+F25/F$8 -> 0.0073279471 | H32: =+H25/H$8 -> 0.0077741017 | J32: =+J25/J$8 -> 0.0070581077 | L32: =+L25/L$8 -> 0.007456169 | N32: =+N25/N$8 -> 0.0083281521 | P32: =+P25/P$8 -> 0.0076715204 | R32: =+R25/R$8 -> 0.008010644 | T32: =+T25/T$8 -> 0.0083121365 | V32: =+V25/V$8 -> 0.0080827942 | X32: =+X25/X$8 -> 0.0079950603 | Z32: =+Z25/Z$8 -> 0.0080996334 | AB32: =+AB25/AB$8 -> 0.011531972
A33: Fair value adjustment to deferred services cost | B33: =+B26/B$8 -> 0 | D33: =+D26/D$8 -> 0 | F33: =+F26/F$8 -> 0 | H33: =+H26/H$8 -> 0 | J33: =+J26/J$8 -> 0 | L33: =+L26/L$8 -> 0 | N33: =+N26/N$8 -> -0.00017725275 | P33: =+P26/P$8 -> -4.7900944e-05 | R33: =+R26/R$8 -> -0.00032571088 | T33: =+T26/T$8 -> -0.00048070954 | V33: =+V26/V$8 -> -0.00044537846 | X33: =+X26/X$8 -> -0.00042870671 | Z33: =+Z26/Z$8 -> -0.0004190427 | AB33: =+AB26/AB$8 -> -0.00045358175
A34: Amortization of acquired intangible assets | B34: =+B27/B$8 -> 0.013190808 | D34: =+D27/D$8 -> 0.012597965 | F34: =+F27/F$8 -> 0.014368311 | H34: =+H27/H$8 -> 0.013840117 | J34: =+J27/J$8 -> 0.013407362 | L34: =+L27/L$8 -> 0.013115134 | N34: =+N27/N$8 -> 0.013070345 | P34: =+P27/P$8 -> 0.013347414 | R34: =+R27/R$8 -> 0.014647771 | T34: =+T27/T$8 -> 0.015007051 | V34: =+V27/V$8 -> 0.016353637 | X34: =+X27/X$8 -> 0.015881344 | Z34: =+Z27/Z$8 -> 0.01545678 | AB34: =+AB27/AB$8 -> 0.017617527
A35: Non-GAAP gross margin | B35: ='Non-GAAP Income Statement'!B41 -> 0.71473937 | D35: ='Non-GAAP Income Statement'!D41 -> 0.72390642 | F35: ='Non-GAAP Income Statement'!F41 -> 0.73393461 | H35: ='Non-GAAP Income Statement'!H41 -> 0.73552974 | J35: ='Non-GAAP Income Statement'!J41 -> 0.735108 | L35: ='Non-GAAP Income Statement'!L41 -> 0.75002228 | N35: ='Non-GAAP Income Statement'!N41 -> 0.76064595 | P35: ='Non-GAAP Income Statement'!P41 -> 0.74582393 | R35: ='Non-GAAP Income Statement'!R41 -> 0.73787655 | T35: ='Non-GAAP Income Statement'!T41 -> 0.74978747 | V35: ='Non-GAAP Income Statement'!V41 -> 0.76273696 | X35: ='Non-GAAP Income Statement'!X41 -> 0.77952758 | Z35: ='Non-GAAP Income Statement'!Z41 -> 0.7572168 | AB35: ='Non-GAAP Income Statement'!AB41 -> 0.75371337
A37: GAAP sales and marketing expense | B37: ='GAAP Income Statement'!B22 -> 355.693 | D37: ='GAAP Income Statement'!D22 -> 385.872 | F37: ='GAAP Income Statement'!F22 -> 373.375 | H37: ='GAAP Income Statement'!H22 -> 87.335 | J37: ='GAAP Income Statement'!J22 -> 88.722 | L37: ='GAAP Income Statement'!L22 -> 93.59 | N37: ='GAAP Income Statement'!N22 -> 97.807 | P37: ='GAAP Income Statement'!P22 -> 367.454 | R37: ='GAAP Income Statement'!R22 -> 89.484 | T37: ='GAAP Income Statement'!T22 -> 83.865 | V37: ='GAAP Income Statement'!V22 -> 88.353 | X37: ='GAAP Income Statement'!X22 -> 85.092 | Z37: ='GAAP Income Statement'!Z22 -> 346.794 | AB37: ='GAAP Income Statement'!AB22 -> 82.429
A38: Stock-based compensation expense | B38: =+B39-B37 -> -11.428 | D38: =+D39-D37 -> -15.605 | F38: =+F39-F37 -> -13.94 | H38: =+H39-H37 -> -3.253 | J38: =+J39-J37 -> -3.547 | L38: =+L39-L37 -> -3.645 | N38: =+N39-N37 -> -2.894 | P38: =+P39-P37 -> -13.339 | R38: =+R39-R37 -> -3.201 | T38: =+T39-T37 -> -3.545 | V38: =+V39-V37 -> -4.075 | X38: =+X39-X37 -> -3.368 | Z38: =+Z39-Z37 -> -14.189 | AB38: =+AB39-AB37 -> -4.282
A39: Non-GAAP sales and marketing expense | B39: ='Non-GAAP Income Statement'!B22 -> 344.265 | D39: ='Non-GAAP Income Statement'!D22 -> 370.267 | F39: ='Non-GAAP Income Statement'!F22 -> 359.435 | H39: ='Non-GAAP Income Statement'!H22 -> 84.082 | J39: ='Non-GAAP Income Statement'!J22 -> 85.175 | L39: ='Non-GAAP Income Statement'!L22 -> 89.945 | N39: ='Non-GAAP Income Statement'!N22 -> 94.913 | P39: ='Non-GAAP Income Statement'!P22 -> 354.115 | R39: ='Non-GAAP Income Statement'!R22 -> 86.283 | T39: ='Non-GAAP Income Statement'!T22 -> 80.32 | V39: ='Non-GAAP Income Statement'!V22 -> 84.278 | X39: ='Non-GAAP Income Statement'!X22 -> 81.724 | Z39: ='Non-GAAP Income Statement'!Z22 -> 332.605 | AB39: ='Non-GAAP Income Statement'!AB22 -> 78.147
A41: GAAP research and development expense | B41: ='GAAP Income Statement'!B23 -> 211.406 | D41: ='GAAP Income Statement'!D23 -> 214.96 | F41: ='GAAP Income Statement'!F23 -> 221.918 | H41: ='GAAP Income Statement'!H23 -> 53.073 | J41: ='GAAP Income Statement'!J23 -> 55.631 | L41: ='GAAP Income Statement'!L23 -> 57.405 | N41: ='GAAP Income Statement'!N23 -> 60.387 | P41: ='GAAP Income Statement'!P23 -> 226.496 | R41: ='GAAP Income Statement'!R23 -> 61.097 | T41: ='GAAP Income Statement'!T23 -> 60.158 | V41: ='GAAP Income Statement'!V23 -> 54.078 | X41: ='GAAP Income Statement'!X23 -> 52.18 | Z41: ='GAAP Income Statement'!Z23 -> 227.513 | AB41: ='GAAP Income Statement'!AB23 -> 57.669
A42: Stock-based compensation expense | B42: =+B43-B41 -> -8.547 | D42: =+D43-D41 -> -8.761 | F42: =+F43-F41 -> -8.59 | H42: =+H43-H41 -> -2.689 | J42: =+J43-J41 -> -2.147 | L42: =+L43-L41 -> -2.231 | N42: =+N43-N41 -> -3.052 | P42: =+P43-P41 -> -10.119 | R42: =+R43-R41 -> -3.086 | T42: =+T43-T41 -> -3.001 | V42: =+V43-V41 -> -2.928 | X42: =+X43-X41 -> -2.608 | Z42: =+Z43-Z41 -> -11.623 | AB42: =+AB43-AB41 -> -2.513
A43: Non-GAAP research and development expense | B43: ='Non-GAAP Income Statement'!B23 -> 202.859 | D43: ='Non-GAAP Income Statement'!D23 -> 206.199 | F43: ='Non-GAAP Income Statement'!F23 -> 213.328 | H43: ='Non-GAAP Income Statement'!H23 -> 50.384 | J43: ='Non-GAAP Income Statement'!J23 -> 53.484 | L43: ='Non-GAAP Income Statement'!L23 -> 55.174 | N43: ='Non-GAAP Income Statement'!N23 -> 57.335 | P43: ='Non-GAAP Income Statement'!P23 -> 216.377 | R43: ='Non-GAAP Income Statement'!R23 -> 58.011 | T43: ='Non-GAAP Income Statement'!T23 -> 57.157 | V43: ='Non-GAAP Income Statement'!V23 -> 51.15 | X43: ='Non-GAAP Income Statement'!X23 -> 49.572 | Z43: ='Non-GAAP Income Statement'!Z23 -> 215.89 | AB43: ='Non-GAAP Income Statement'!AB23 -> 55.156
A45: GAAP general and administrative expense | B45: ='GAAP Income Statement'!B24 -> 107.649 | D45: ='GAAP Income Statement'!D24 -> 109.392 | F45: ='GAAP Income Statement'!F24 -> 119.202 | H45: ='GAAP Income Statement'!H24 -> 27.834 | J45: ='GAAP Income Statement'!J24 -> 31.352 | L45: ='GAAP Income Statement'!L24 -> 31.667 | N45: ='GAAP Income Statement'!N24 -> 41.372 | P45: ='GAAP Income Statement'!P24 -> 132.225 | R45: ='GAAP Income Statement'!R24 -> 35.13 | T45: ='GAAP Income Statement'!T24 -> 32.394 | V45: ='GAAP Income Statement'!V24 -> 46.201 | X45: ='GAAP Income Statement'!X24 -> 111.322 | Z45: ='GAAP Income Statement'!Z24 -> 225.047 | AB45: ='GAAP Income Statement'!AB24 -> 38.567
A46: Stock-based compensation expense | B46: -17.68 | D46: -18.001 | F46: -16.778 | H46: -4.296 | J46: -4.552 | L46: -4.146 | N46: -3.925 | P46: =SUM(H46,J46,L46,N46) -> -16.919 | R46: -2.348 | T46: -3.665 | V46: -4.618 | X46: -3.572 | Z46: =SUM(R46,T46,V46,X46) -> -14.203 | AB46: -13.038
A47: Acquisition-related costs | B47: -7.761 | D47: -3.833 | F47: -9.855 | H47: -1.305 | J47: -3.935 | L47: -1.528 | N47: -6.328 | P47: =SUM(H47,J47,L47,N47) -> -13.096 | R47: -4.033 | T47: -1.892 | V47: -2.778 | X47: -0.21 | Z47: =SUM(R47,T47,V47,X47) -> -8.913 | AB47: -1.207
A48: US pension plan termination-related costs | B48: 0 | D48: 0 | F48: 0 | H48: 0 | J48: 0 | L48: 0 | N48: 0 | P48: 0 | R48: -1.684 | T48: -1.713 | V48: -1.995 | X48: -67.779 | Z48: =SUM(R48,T48,V48,X48) -> -73.171 | AB48: 0
...

Sheet Cash Flow
A1: Trended PTC Consolidated Statements of Cash Flows
B3: FY'11 | D3: FY'12 | F3: FY'13 | H3: FY'14 | R3: FY'15 | AB3: FY'16
B5: Yr Ended | D5: Yr Ended | F5: Yr Ended | H5: Quarter Ended | P5: Yr Ended | R5: Quarter Ended | Z5: Yr Ended | AB5: QE
B6: 40816 | D6: 41182 | F6: 41547 | H6: 41636 | J6: 41727 | L6: 41818 | N6: 41912 | P6: 41912 | R6: 42007 | T6: 42098 | V6: 42189 | X6: 41912 | Z6: 41912 | AB6: 42371
A7: (in millions)
A8: Cash flows from operating activities:
A9: Net income (loss) | B9: 85.424 | D9: -35.398 | F9: 143.769 | H9: 39.657 | J9: 43.756 | L9: 38.026 | N9: 38.755 | P9: =SUM(H9,J9,L9,N9) -> 160.194 | R9: 30.284 | T9: 5.392 | V9: 17.435 | X9: -5.553 | Z9: =SUM(R9,T9,V9,X9)-0.001 -> 47.557 | AB9: -23.892
A10: Stock-based compensation | B10: 45.402 | D10: 51.305 | F10: 48.787 | H10: 12.764 | J10: 12.566 | L10: 12.532 | N10: 13.027 | P10: =SUM(H10,J10,L10,N10) -> 50.889 | R10: 11.242 | T10: 12.822 | V10: 14.071 | X10: 12.047 | Z10: =SUM(R10,T10,V10,X10) -> 50.182 | AB10: 23.189
A11: Depreciation and amortization | B11: 62.394 | D11: 66.471 | F11: 76.551 | H11: 19.1 | J11: 19.173 | L11: 19.026 | N11: 20.008 | P11: =SUM(H11,J11,L11,N11) -> 77.307 | R11: 21.237 | T11: 20.968 | V11: 21.25 | X11: 20.978 | Z11: =SUM(R11,T11,V11,X11) -> 84.433 | AB11: 20.613
A12: Accounts receivable | B12: -32.334 | D12: 32.309 | F12: 17.312 | H12: 19.273 | J12: -2.536 | L12: -2.112 | N12: -7.071 | P12: =SUM(H12,J12,L12,N12) -> 7.554 | R12: 25.8 | T12: -3.089 | V12: 22.195 | X12: -15.183 | Z12: =SUM(R12,T12,V12,X12) -> 29.723 | AB12: 35.219
A13: Accounts payable and accruals | B13: -3.846 | D13: -7.573 | F13: 6.208 | H13: -42.862 | J13: 5.231 | L13: 9.423 | N13: 36.746 | P13: =SUM(H13,J13,L13,N13) -> 8.538 | R13: -50.918 | T13: 33.72 | V13: 7.169 | X13: =-30.327+14.54 -> -15.787 | Z13: =SUM(R13,T13,V13,X13) -> -25.816 | AB13: 10.375
A14: Deferred revenue | B14: 8.195 | D14: 14.362 | F14: 6.727 | H14: -10.827 | J14: 40.51 | L14: 25.656 | N14: -30.341 | P14: =SUM(H14,J14,L14,N14) -> 24.998 | R14: -8.776 | T14: 40.976 | V14: 19.193 | X14: -42.541 | Z14: =SUM(R14,T14,V14,X14) -> 8.852 | AB14: 1.262
A15: Pension settlement loss | B15: 0 | D15: 0 | F15: 0 | H15: 0 | J15: 0 | L15: 0 | N15: 0 | P15: =SUM(H15,J15,L15,N15) -> 0 | R15: 0 | T15: 0 | V15: 0 | X15: 66.332 | Z15: =SUM(R15,T15,V15,X15) -> 66.332 | AB15: 0
A16: Income taxes | B16: -16.132 | D16: 100.761 | F16: -54.925 | H16: 7.393 | J16: -1.514 | L16: 8.666 | N16: -15.357 | P16: =SUM(H16,J16,L16,N16) -> -0.812 | R16: -2.953 | T16: -13.612 | V16: -9.043 | X16: -27.289 | Z16: =SUM(R16,T16,V16,X16) -> -52.897 | AB16: -3.355
A17: Excess tax benefits from stock-based awards | B17: -5.398 | D17: -1.324 | F17: -0.334 | H17: -6.802 | J17: -1.29 | L17: -1.484 | N17: -0.852 | P17: =SUM(H17,J17,L17,N17) -> -10.428 | R17: -0.163 | T17: 0 | V17: 0.234 | X17: -0.095 | Z17: =SUM(R17,T17,V17,X17) -> -0.024 | AB17: -0.056
A18: Other | B18: -65.007 | D18: -2.938 | F18: -19.412 | H18: -1.454 | J18: -5.174 | L18: -3.31 | N18: -3.75 | P18: =SUM(H18,J18,L18,N18) -> -13.688 | R18: -12.121 | T18: -5.185 | V18: -5.665 | X18: -5.469 | Z18: =SUM(R18,T18,V18,X18)+0.001 -> -28.439 | AB18: -2.101
A19: Net cash provided by (used in) operating activities | B19: 78.698 | D19: 217.975 | F19: 224.683 | H19: =SUM(H9:H18) -> 36.242 | J19: =SUM(J9:J18) -> 110.722 | L19: =SUM(L9:L18) -> 106.423 | N19: =SUM(N9:N18) -> 51.165 | P19: =SUM(P9:P18) -> 304.552 | R19: =SUM(R9:R18) -> 13.632 | T19: =SUM(T9:T18) -> 91.992 | V19: =SUM(V9:V18) -> 86.839 | X19: =SUM(X9:X18) -> -12.56 | Z19: =SUM(Z9:Z18) -> 179.903 | AB19: =SUM(AB9:AB18) -> 61.254
A21: Cash flows from investing activities:
A22: Capital expenditures | B22: -27.817 | D22: -31.413 | F22: -29.328 | H22: -5.774 | J22: -4.568 | L22: -6.379 | N22: -8.554 | P22: =SUM(H22,J22,L22,N22) -> -25.275 | R22: -7.947 | T22: -6.16 | V22: -6.53 | X22: -9.991 | Z22: =SUM(R22,T22,V22,X22) -> -30.628 | AB22: -4.185
A23: Cost of acquisitions, net | B23: -280.026 | D23: -0.22 | F23: -245.843 | H23: 0 | J23: -111.519 | L23: 0 | N23: -212.006 | P23: =SUM(H23,J23,L23,N23) -> -323.525 | R23: 0.18 | T23: 0 | V23: -98.591 | X23: 0 | Z23: =SUM(R23,T23,V23,X23) -> -98.411 | AB23: -64.78
A24: Other investing activities | B24: 0 | D24: 0 | F24: 0.721 | H24: 0 | J24: 0 | L24: 0 | N24: 0 | P24: =SUM(H24,J24,L24,N24) -> 0 | R24: -1 | T24: 0 | V24: -10 | X24: 0 | Z24: =SUM(R24,T24,V24,X24) -> -11 | AB24: 0
A25: Net cash used in investing activities | B25: -307.843 | D25: -31.633 | F25: -274.45 | H25: =SUM(H22:H24) -> -5.774 | J25: =SUM(J22:J24) -> -116.087 | L25: =SUM(L22:L24) -> -6.379 | N25: =SUM(N22:N24) -> -220.56 | P25: =SUM(P22:P24) -> -348.8 | R25: =SUM(R22:R24) -> -8.767 | T25: =SUM(T22:T24) -> -6.16 | V25: =SUM(V22:V24) -> -115.121 | X25: =SUM(X22:X24) -> -9.991 | Z25: =SUM(Z22:Z24) -> -140.039 | AB25: =SUM(AB22:AB24) -> -68.965
A27: Cash flows from financing activities:
A28: Proceeds (payments) on debt, net | B28: 200 | D28: 170 | F28: -111.875 | H28: 110 | J28: -50 | L28: -3.125 | N28: 296.875 | P28: =SUM(H28,J28,L28,N28) -> 353.75 | R28: -6.25 | T28: -75 | V28: 93.75 | X28: 43.75 | Z28: =SUM(R28,T28,V28,X28) -> 56.25 | AB28: 50
A29: Proceeds from issuance of common stock | B29: 24.756 | D29: 21.21 | F29: 4.884 | H29: 0.351 | J29: 0.365 | L29: 0.085 | N29: 0.076 | P29: =SUM(H29,J29,L29,N29) -> 0.877 | R29: 0.003 | T29: 0.003 | V29: 0.032 | X29: 0.003 | Z29: =SUM(R29,T29,V29,X29) -> 0.041 | AB29: 0.001
